BEGIN:VCALENDAR
VERSION:2.0
PRODID:-//GPHQ - ECPv6.15.17.1//NONSGML v1.0//EN
CALSCALE:GREGORIAN
METHOD:PUBLISH
X-ORIGINAL-URL:https://www.gphq.com.au
X-WR-CALDESC:Events for GPHQ
REFRESH-INTERVAL;VALUE=DURATION:PT1H
X-Robots-Tag:noindex
X-PUBLISHED-TTL:PT1H
BEGIN:VTIMEZONE
TZID:Australia/Perth
BEGIN:DAYLIGHT
TZOFFSETFROM:+0800
TZOFFSETTO:+0900
TZNAME:AWDT
DTSTART:19411231T180000
END:DAYLIGHT
BEGIN:STANDARD
TZOFFSETFROM:+0900
TZOFFSETTO:+0800
TZNAME:AWST
DTSTART:19420328T180000
END:STANDARD
BEGIN:DAYLIGHT
TZOFFSETFROM:+0800
TZOFFSETTO:+0900
TZNAME:AWDT
DTSTART:19420926T180000
END:DAYLIGHT
BEGIN:STANDARD
TZOFFSETFROM:+0900
TZOFFSETTO:+0800
TZNAME:AWST
DTSTART:19430327T180000
END:STANDARD
BEGIN:DAYLIGHT
TZOFFSETFROM:+0800
TZOFFSETTO:+0900
TZNAME:AWDT
DTSTART:19741026T180000
END:DAYLIGHT
BEGIN:STANDARD
TZOFFSETFROM:+0900
TZOFFSETTO:+0800
TZNAME:AWST
DTSTART:19750301T180000
END:STANDARD
BEGIN:DAYLIGHT
TZOFFSETFROM:+0800
TZOFFSETTO:+0900
TZNAME:AWDT
DTSTART:19831029T180000
END:DAYLIGHT
BEGIN:STANDARD
TZOFFSETFROM:+0900
TZOFFSETTO:+0800
TZNAME:AWST
DTSTART:19840303T180000
END:STANDARD
BEGIN:DAYLIGHT
TZOFFSETFROM:+0800
TZOFFSETTO:+0900
TZNAME:AWDT
DTSTART:19911116T180000
END:DAYLIGHT
BEGIN:STANDARD
TZOFFSETFROM:+0900
TZOFFSETTO:+0800
TZNAME:AWST
DTSTART:19920229T180000
END:STANDARD
BEGIN:DAYLIGHT
TZOFFSETFROM:+0800
TZOFFSETTO:+0900
TZNAME:AWDT
DTSTART:20061202T180000
END:DAYLIGHT
BEGIN:STANDARD
TZOFFSETFROM:+0900
TZOFFSETTO:+0800
TZNAME:AWST
DTSTART:20070324T180000
END:STANDARD
BEGIN:DAYLIGHT
TZOFFSETFROM:+0800
TZOFFSETTO:+0900
TZNAME:AWDT
DTSTART:20071027T180000
END:DAYLIGHT
BEGIN:STANDARD
TZOFFSETFROM:+0900
TZOFFSETTO:+0800
TZNAME:AWST
DTSTART:20080329T180000
END:STANDARD
BEGIN:DAYLIGHT
TZOFFSETFROM:+0800
TZOFFSETTO:+0900
TZNAME:AWDT
DTSTART:20081025T180000
END:DAYLIGHT
BEGIN:STANDARD
TZOFFSETFROM:+0900
TZOFFSETTO:+0800
TZNAME:AWST
DTSTART:20090328T180000
END:STANDARD
END:VTIMEZONE
BEGIN:VTIMEZONE
TZID:Australia/Brisbane
BEGIN:STANDARD
TZOFFSETFROM:+1000
TZOFFSETTO:+1000
TZNAME:AEST
DTSTART:20160101T000000
END:STANDARD
END:VTIMEZONE
BEGIN:VTIMEZONE
TZID:UTC
BEGIN:STANDARD
TZOFFSETFROM:+0000
TZOFFSETTO:+0000
TZNAME:UTC
DTSTART:20150101T000000
END:STANDARD
END:VTIMEZONE
BEGIN:VEVENT
DTSTART;TZID=Australia/Perth:20180606T063000
DTEND;TZID=Australia/Perth:20180522T090000
DTSTAMP:20260419T200553
CREATED:20180521T194321Z
LAST-MODIFIED:20201028T020052Z
UID:21947-1528266600-1526979600@www.gphq.com.au
SUMMARY:Plastic surgery problems in general practice
DESCRIPTION:
URL:https://www.gphq.com.au/event/plastic-surgery-problems-in-general-practice/
LOCATION:St John of God Mt Lawley Hospital\, Conference Centre\, Thirlmere Road\, Mt Lawley\, WA\, 6050\, Australia
CATEGORIES:Conference
ATTACH;FMTTYPE=image/jpeg:https://www.gphq.com.au/wp-content/uploads/2020/10/Jeremy-internal-pic-1.jpg
ORGANIZER;CN="St John of God Mt Lawley Hospital":MAILTO:elise.bertoncini@sjog.org.au
END:VEVENT
BEGIN:VEVENT
DTSTART;TZID=Australia/Perth:20180505T120000
DTEND;TZID=Australia/Perth:20180505T170000
DTSTAMP:20260419T200553
CREATED:20180417T191837Z
LAST-MODIFIED:20201028T020028Z
UID:21820-1525521600-1525539600@www.gphq.com.au
SUMMARY:Health Matters
DESCRIPTION:Servier presents the Health Matters clinical day which will be held on Saturday May 5th at Acqua Viva from 12pm – 5pm. There will be a mix of topics presented from mental health\, addiction and diabetes from a variety of well reknowned speacialists speakers both locally and interstate. Please print out invite and email to conferences.au@servier.com with the subject line ‘WA Health Matters.’
URL:https://www.gphq.com.au/event/health-matters/
LOCATION:Acqua Viva on the Swan\, Broadway\, Nedlands\, WA\, 6009\, Australia
CATEGORIES:Conference
ATTACH;FMTTYPE=image/jpeg:https://www.gphq.com.au/wp-content/uploads/2020/10/C71B266D-8AD5-4898-8413-A9AA2E4D0C24-1.jpeg
ORGANIZER;CN="Frances Prendergast":MAILTO:Frances.prendergast@servier.com
END:VEVENT
BEGIN:VEVENT
DTSTART;VALUE=DATE:20180324
DTEND;VALUE=DATE:20180326
DTSTAMP:20260419T200553
CREATED:20180110T172229Z
LAST-MODIFIED:20201028T015818Z
UID:21136-1521849600-1522022399@www.gphq.com.au
SUMMARY:Rural Health West Annual Conference 2018
DESCRIPTION:
URL:https://www.gphq.com.au/event/rural-health-west-annual-conference-2018/
LOCATION:Hyatt Regency Perth\, 99 Adelaide Terrace\, Perth\, WA\, 6000\, Australia
CATEGORIES:Conference
ATTACH;FMTTYPE=image/png:https://www.gphq.com.au/wp-content/uploads/2020/10/Header-image-1.png
ORGANIZER;CN="Rural Health West":MAILTO:choosecountry@ruralhealthwest.com.au
END:VEVENT
BEGIN:VEVENT
DTSTART;TZID=Australia/Perth:20180323T063000
DTEND;TZID=Australia/Perth:20180323T083000
DTSTAMP:20260419T200553
CREATED:20180226T191810Z
LAST-MODIFIED:20201028T015911Z
UID:21575-1521786600-1521793800@www.gphq.com.au
SUMMARY:2018 Obstetric Think Tank
DESCRIPTION:
URL:https://www.gphq.com.au/event/2018-obstetric-think-tank/
LOCATION:Hyatt Regency Perth\, 99 Adelaide Terrace\, Perth\, WA\, 6000\, Australia
CATEGORIES:Conference
ORGANIZER;CN="Rural Health West":MAILTO:choosecountry@ruralhealthwest.com.au
END:VEVENT
BEGIN:VEVENT
DTSTART;TZID=Australia/Perth:20180317T083000
DTEND;TZID=Australia/Perth:20180317T050000
DTSTAMP:20260419T200553
CREATED:20180206T181826Z
LAST-MODIFIED:20201028T015853Z
UID:21468-1521275400-1521262800@www.gphq.com.au
SUMMARY:TADPole: Treating Alcohol and other Drugs in Primary Care - RACGP Cat. 1 Event
DESCRIPTION:
URL:https://www.gphq.com.au/event/tadpole-treating-alcohol-and-other-drugs-in-primary-care-racgp-cat-1-event/
LOCATION:Joondalup Resort\, Country Club Boulevard\, O’Connor\, WA\, 6027\, Australia
CATEGORIES:Conference,One day course
ATTACH;FMTTYPE=image/png:https://www.gphq.com.au/wp-content/uploads/2020/10/tadpole-eventbrite-1-4.png
END:VEVENT
BEGIN:VEVENT
DTSTART;TZID=Australia/Perth:20171125T080000
DTEND;TZID=Australia/Perth:20171126T133000
DTSTAMP:20260419T200553
CREATED:20170927T195405Z
LAST-MODIFIED:20201028T015704Z
UID:20493-1511596800-1511703000@www.gphq.com.au
SUMMARY:Rural GP Anaesthetists Forum 2017
DESCRIPTION:Rural Health West will be hosting an inaugural education forum for Western Australian GP Anaesthetists.  \nThe two day forum will include lectures\, small problem based discussions\, simulation and skills stations happening concurrently over the weekend facilitated by experienced specialists. It will also be an opportunity to catch up and develop networks with fellow rural GP Anaesthetists and colleagues.
URL:https://www.gphq.com.au/event/rural-gp-anaesthetists-forum-2017/
LOCATION:CTEC\, The University of Western Australia\, Entrance No. 2\, Hackett Drive\, CRAWLEY\, WA\, 6009\, Australia
CATEGORIES:Conference
ORGANIZER;CN="Rural Health West":MAILTO:choosecountry@ruralhealthwest.com.au
END:VEVENT
BEGIN:VEVENT
DTSTART;VALUE=DATE:20171104
DTEND;VALUE=DATE:20171105
DTSTAMP:20260419T200553
CREATED:20171026T202016Z
LAST-MODIFIED:20201028T015730Z
UID:20664-1509753600-1509839999@www.gphq.com.au
SUMMARY:Perth General Practice Education Day 2017
DESCRIPTION:Healthed invites you to attend this high quality educational event ideally suited to General Practitioners and other Health Professionals.  \nThis meeting will feature leading experts and key opinion leaders who will present the most authoritative\, clinically relevant information on topic areas specifically requested by Australian medical practitioners. We look forward to seeing you at this unrivalled General Practice education day. \nRegistration Includes:\n❏ Access to entire program\n❏ Handbook with lecture notes\n❏ Morning tea\, lunch & afternoon tea\n❏ Access to trade exhibition\n❏ Posted copy of an attendance certificate\n❏ All registrations will be acknowledged in writing after receipt of payment \nHealthed strives to maintain the highest possible standard of educational quality throughout its seminar programs. All our speakers are clearly instructed to present information that is authoritative\, independent\, scientifically accurate and of practical relevance. \nIn our constant search for high quality educational content we take input from GPs\, specialists\, researchers\, medical educators\, industry and many other sources. Their ideas are scrutinised carefully before being introduced into the educational program.
URL:https://www.gphq.com.au/event/perth-general-practice-education-day-2017/
LOCATION:Perth Convention & Exhibition Centre\, 21 Mounts Bay Road\, Perth\, WA\, 6000\, Australia
CATEGORIES:Conference,One day course
ATTACH;FMTTYPE=image/jpeg:https://www.gphq.com.au/wp-content/uploads/2020/10/GPED17-banner-1.jpg
ORGANIZER;CN="Healthed":MAILTO:info@healthed.com.au
END:VEVENT
BEGIN:VEVENT
DTSTART;VALUE=DATE:20171017
DTEND;VALUE=DATE:20171019
DTSTAMP:20260419T200553
CREATED:20170927T195012Z
LAST-MODIFIED:20201028T015704Z
UID:20489-1508198400-1508371199@www.gphq.com.au
SUMMARY:National Borderline Personality Disorder Conference – 18 Oct 2017
DESCRIPTION:
URL:https://www.gphq.com.au/event/national-borderline-personality-disorder-conference-18-oct-2017/
LOCATION:The Bendat Community Centre\, 36 Dodd Street\, Wembley\, WA\, 6014\, Australia
CATEGORIES:Conference,One day course
ATTACH;FMTTYPE=image/png:https://www.gphq.com.au/wp-content/uploads/2020/10/Screen-Shot-2017-09-28-at-11.42.02-AM-1.png
ORGANIZER;CN="Australian BPD Foundation Limited":MAILTO:admin@bpdfoundation.org.au
END:VEVENT
BEGIN:VEVENT
DTSTART;VALUE=DATE:20170916
DTEND;VALUE=DATE:20170917
DTSTAMP:20260419T200553
CREATED:20170808T193035Z
LAST-MODIFIED:20201028T015626Z
UID:20127-1505520000-1505606399@www.gphq.com.au
SUMMARY:2017 Annual Scientific Meeting and Conference - WA Indian Docs
DESCRIPTION:The 2017 Annual Scientific Meeting and Conference is the inaugural professional and educational conference for WA Indian Docs. This is a unique opportunity for you to connect with hundreds of medical and dental practitioners who work in the public sector and private sector in WA. In addition\, we have in our membership dental practitioners\, medical and dental students and medical practitioners of various origins from all over the globe.The Organising Committee is committed to engaging with delegates through an energising and informative program of guest speakers\, facilitated high-quality workshops and also committed to facilitating networking and business opportunities through an interactive trade exhibition and a dynamic program of world class professional events. \n\n\nThe brief overview of the Conference Program can be accessed here. \nThe full Conference Program can be accessed here. \n\n\n\nThe detailed conference flyer can be accessed here \n\n\n\nRegistration is now Free for a limited number of places\n\nPlease use discount code DISCOUNTX on the conference registration page to get free entry to the Conference and save up to $150
URL:https://www.gphq.com.au/event/2017-annual-scientific-meeting-and-conference-wa-indian-docs/
LOCATION:Novotel Perth Langley\, 221 Adelaide Terrace\, Perth\, WA\, 6000\, Australia
CATEGORIES:Conference
ATTACH;FMTTYPE=image/jpeg:https://www.gphq.com.au/wp-content/uploads/2020/10/Screen-Shot-2017-08-09-at-11.03.22-1.jpg
ORGANIZER;CN="WA Indican Docs":MAILTO:info@indiandoctorswa.org.au
END:VEVENT
BEGIN:VEVENT
DTSTART;TZID=Australia/Perth:20170817T070000
DTEND;TZID=Australia/Perth:20170817T083000
DTSTAMP:20260419T200553
CREATED:20170802T214939Z
LAST-MODIFIED:20201028T015623Z
UID:20080-1502953200-1502958600@www.gphq.com.au
SUMMARY:My Health Record Breakfast Forum (RPH)
DESCRIPTION:My Health Record is going Opt-Out \nIn 2018\, the My Health Record system will be switching to opt-out\, meaning every Australian will have a record created\, unless they actively choose not to have one. \nThe WA Primary Health Alliance and the Australian Digital Health Agency are hosting a breakfast forum to provide you and your practice staff an insight into the benefits of this unique system\, your rights and responsibilities as a health provider and how you can be involved. \nThursday 17th August\nRoyal Perth Hospital\, Bruce Hunt Lecture Theatre\n7:00am – 8:30am \nLearning Objectives include: \nOverview of Agency and national digital health\nKey benefits for GPs\nDocument types (SHS\, Event Summary\, Discharge Summary)\nSecurity and privacy \nRegister via the website below
URL:https://www.gphq.com.au/event/my-health-record-breakfast-forum-rph/
LOCATION:Royal Perth Hospital\, Wellington Street\, Perth\, WA\, 6000\, Australia
CATEGORIES:Conference
ATTACH;FMTTYPE=image/png:https://www.gphq.com.au/wp-content/uploads/2020/10/My_Health_Record_Small-2.png
ORGANIZER;CN="WA Primary Health Alliance":MAILTO:shirley.teshome@wapha.org.au
END:VEVENT
BEGIN:VEVENT
DTSTART;TZID=Australia/Perth:20170816T110000
DTEND;TZID=Australia/Perth:20170816T110000
DTSTAMP:20260419T200553
CREATED:20170802T214712Z
LAST-MODIFIED:20201028T015623Z
UID:20077-1502881200-1502881200@www.gphq.com.au
SUMMARY:My Health Record in General Practice (Webinar)
DESCRIPTION:In 2018\, the My Health Record system will be switching to opt-out\, meaning every Australian will have a record created\, unless they actively choose not to have one. \nThe WA Primary Health Alliance and the Australian Digital Health Agency are hosting an online webinar to provide you and your practice staff an insight into the benefits of this unique system\, your rights and responsibilities as a health provider and how you can be involved. \nWednesday 16th August\nONLINE ONLY\n11:00am – 12:00pm\nHosted by Dr Steve Hambleton and Dr Monica Trujillo \nLearning Objectives include: \nOverview of Agency and national digital health\nKey benefits for GPs\nDocument types (SHS\, Event Summary\, Discharge Summary)\nSecurity and privacy \nRegister via the website below
URL:https://www.gphq.com.au/event/my-health-record-in-general-practice-webinar/
LOCATION:Online\, WA\, Australia
CATEGORIES:Conference
ATTACH;FMTTYPE=image/png:https://www.gphq.com.au/wp-content/uploads/2020/10/My_Health_Record_Small-1-1.png
ORGANIZER;CN="WA Primary Health Alliance":MAILTO:shirley.teshome@wapha.org.au
END:VEVENT
BEGIN:VEVENT
DTSTART;TZID=Australia/Perth:20170816T070000
DTEND;TZID=Australia/Perth:20170816T083000
DTSTAMP:20260419T200553
CREATED:20170802T214429Z
LAST-MODIFIED:20201028T015619Z
UID:20074-1502866800-1502872200@www.gphq.com.au
SUMMARY:My Health Record Breakfast Forum (FSH)
DESCRIPTION:My Health Record is going Opt-Out \nIn 2018\, the My Health Record system will be switching to opt-out\, meaning every Australian will have a record created\, unless they actively choose not to have one. \nThe WA Primary Health Alliance and the Australian Digital Health Agency are hosting a breakfast forum to provide you and your practice staff an insight into the benefits of this unique system\, your rights and responsibilities as a health provider and how you can be involved. \nWednesday 16th August\nFiona Stanley Hospital\, G1 Lecture Theatre (near Jamaica Blue)\n7:00am – 8:30am\nAudience: GPs and hospital staff \nLearning Objectives include: \nOverview of Agency and national digital health\nKey benefits for GPs\nDocument types (SHS\, Event Summary\, Discharge Summary)\nSecurity and privacy \nRegister via the website below
URL:https://www.gphq.com.au/event/my-health-record-breakfast-forum-fsh/
LOCATION:Fiona Stanley Hospital for metro GPs and VC for country regions\, 11 Robin Warren Dr\, Murdoch\, WA\, 6150\, Australia
CATEGORIES:Conference
ATTACH;FMTTYPE=image/png:https://www.gphq.com.au/wp-content/uploads/2020/10/My_Health_Record_outline-RGB-1.png
ORGANIZER;CN="WA Primary Health Alliance":MAILTO:shirley.teshome@wapha.org.au
END:VEVENT
BEGIN:VEVENT
DTSTART;TZID=Australia/Brisbane:20170726T083000
DTEND;TZID=Australia/Brisbane:20170729T170000
DTSTAMP:20260419T200553
CREATED:20170223T033332Z
LAST-MODIFIED:20201028T015311Z
UID:18735-1501057800-1501347600@www.gphq.com.au
SUMMARY:Skin Cancer Summit and Masterclasses
DESCRIPTION:The 2017 program will feature two days of masterclasses followed by a two-day summit\, offering you the unique opportunity to hear from the world’s leading experts\, delivering the latest clinical content on skin cancer prevention\, diagnosis and treatment. \nThe masterclasses will allow you to delve deeply into a particular skin cancer area and learn on a variety of topics\, which will not all be covered in the summit. Don’t miss the opportunity to interact more closely with the presenters in a smaller group format to help you improve your clinical practice.  \nAs much as we love to learn\, we also like to have fun. The summit will offer various opportunities to exchange your thoughts with peers and the presenters\, all sharing an interest in and passion for skin cancer medicine.
URL:https://www.gphq.com.au/event/skin-cancer-summit-and-masterclasses/
LOCATION:Brisbane Convention and Exhibition Centre\, Corner of Merivale & Glenelg St South Bank\,\, Queensland\, 4101\, Australia
CATEGORIES:Conference
ATTACH;FMTTYPE=image/png:https://www.gphq.com.au/wp-content/uploads/2020/10/SCI-Conference-Header_1461x528__1-1.png
ORGANIZER;CN="HealthCert":MAILTO:info@healthcert.com
END:VEVENT
BEGIN:VEVENT
DTSTART;TZID=Australia/Perth:20170701T090000
DTEND;TZID=Australia/Perth:20170702T130000
DTSTAMP:20260419T200553
CREATED:20170608T183506Z
LAST-MODIFIED:20201028T015528Z
UID:19664-1498899600-1499000400@www.gphq.com.au
SUMMARY:Aboriginal Health Conference
DESCRIPTION:The leading Aboriginal health conference in Western Australia for medical practitioners\, health professionals\, educators\, researchers and Indigenous leaders from across the country who are committed to improving the health and wellbeing of Aboriginal Australians. \nThe 2017 conference theme champions | connection | culture will be explored through inspiring keynote speakers\, relevant clinical updates\, practical educational workshops and clinical problem-based case study learning opportunities from leading experts\, medical specialists\, researchers and health practitioners.
URL:https://www.gphq.com.au/event/aboriginal-health-conference/
LOCATION:Parmelia Hilton Perth\, 14 Mill Street\, Perth\, WA\, 6000\, Australia
CATEGORIES:Conference
ATTACH;FMTTYPE=image/jpeg:https://www.gphq.com.au/wp-content/uploads/2020/10/secure-registration-web-image-2017-1.jpg
ORGANIZER;CN="Rural Health West":MAILTO:choosecountry@ruralhealthwest.com.au
END:VEVENT
BEGIN:VEVENT
DTSTART;TZID=Australia/Perth:20170506T090000
DTEND;TZID=Australia/Perth:20170506T170000
DTSTAMP:20260419T200553
CREATED:20170227T203502Z
LAST-MODIFIED:20201028T015346Z
UID:18791-1494061200-1494090000@www.gphq.com.au
SUMMARY:Doctors for Doctors Workshop 2017
DESCRIPTION:Topics covered will include: \n• Doctors’ Health Issues \n• Doctors with Mental Illness \n• Barriers to Doctors seeking health care \n• The Drug or Alcohol affected Doctor \n• What do doctors want from a check-up? \n• Tricky situations e.g. what to charge doctors and their family members? \n• The Cognitively Impaired Doctor • Self- treatment \nDid you know that fewer than 40% of doctors have an identifiable GP? And 25% of doctors identify multiple barriers to seeing a doctor? Doctors are generally regarded as self-reliant and capable of looking after themselves\, but many factors such as embarrassment\, fear of notification and confidentiality may make this difficult to achieve. Doctors can experience unique barriers which prevent them from accessing formal health care from another doctor\, and they require a special approach to their health care.  \nThis full-day training workshop will provide specific training in doctors’ health to interested doctors\, and help better prepare attendees to be a “doctor for doctors”.
URL:https://www.gphq.com.au/event/doctors-doctors-workshop-2017/
LOCATION:Wollaston Conference Centre\, 5 Wollaston Road\, Mount Claremont\, WA\, 6010\, Australia
CATEGORIES:Conference
ATTACH;FMTTYPE=image/png:https://www.gphq.com.au/wp-content/uploads/2020/10/DHAS-1.png
ORGANIZER;CN="Doctors Health Advisory Service":MAILTO:seminars@amawa.com.au
END:VEVENT
BEGIN:VEVENT
DTSTART;TZID=Australia/Perth:20170408T083000
DTEND;TZID=Australia/Perth:20170409T130000
DTSTAMP:20260419T200553
CREATED:20170103T223015Z
LAST-MODIFIED:20201028T015250Z
UID:18534-1491640200-1491742800@www.gphq.com.au
SUMMARY:Rural Health West Annual Conference 2017
DESCRIPTION:The Rural Health West Annual Conference will be held on Saturday 8 and Sunday 9 April 2017 at the Hyatt Regency Perth. This year’s conference theme Embracing the unexpected – the unpredictable world of rural health care aims to help practitioners to extend and enhance their skills and knowledge\, not just in clinical delivery\, but in mindset\, attitude and how to deal with the uncertainty of rural practice. We are pleased to present a number of speakers who have experienced very challenging situations and how they survived and thrived through these experiences.
URL:https://www.gphq.com.au/event/rural-health-west-annual-conference-2017/
LOCATION:Hyatt Regency Perth\, 99 Adelaide Terrace\, Perth\, WA\, 6000\, Australia
CATEGORIES:Conference,CPR Training
ATTACH;FMTTYPE=image/jpeg:https://www.gphq.com.au/wp-content/uploads/2020/10/2017-annual-conf-2017-registrationsnowopen-1.jpg
ORGANIZER;CN="Rural Health West":MAILTO:choosecountry@ruralhealthwest.com.au
END:VEVENT
BEGIN:VEVENT
DTSTART;TZID=Australia/Perth:20170217T060000
DTEND;TZID=Australia/Perth:20170218T053000
DTSTAMP:20260419T200553
CREATED:20170117T202407Z
LAST-MODIFIED:20201028T015251Z
UID:18583-1487311200-1487395800@www.gphq.com.au
SUMMARY:Anxiety and Stress Disorders – Psychiatry Masterclass
DESCRIPTION:A significant educational event featuring Keynote Speaker Professor David Nutt from Imperial College London. The Master Class is open to psychiatrists or to GPs and registrars with an interest in mental health. Please email HiltonL@ramsayhealth.com.au for program details. Registration fee $250 for specialists\, $125 for GPs and registrars.
URL:https://www.gphq.com.au/event/anxiety-and-stress-disorders-psychiatry-masterclass/
LOCATION:The University Club of Western Australia\, Hackett Entrance #1\, Hackett\, Crawley\, WA\, 6009\, Australia
CATEGORIES:Conference
ATTACH;FMTTYPE=image/jpeg:https://www.gphq.com.au/wp-content/uploads/2020/10/PMC-2017-Header-1-scaled.jpg
ORGANIZER;CN="Hollywood Private Hospital":MAILTO:toplisss@ramsayhealth.com.au
END:VEVENT
BEGIN:VEVENT
DTSTART;TZID=Australia/Perth:20161204T140000
DTEND;TZID=Australia/Perth:20161204T190000
DTSTAMP:20260419T200553
CREATED:20161109T212103Z
LAST-MODIFIED:20201028T015247Z
UID:18088-1480860000-1480878000@www.gphq.com.au
SUMMARY:The Latest Treatments for Chronic Tendinopathy
DESCRIPTION:HOW THESE NEW TREATMENT THERAPIES IMPROVE PATIENT OUTCOMES FOR WORKPLACE INJURIES AND OTHER DEBILITATING TENDINOPATHIES
URL:https://www.gphq.com.au/event/the-latest-treatments-for-chronic-tendinopathy/
LOCATION:Pullman Resort Bunker Bay\, Margaret River\, WA\, Australia
CATEGORIES:Conference
ATTACH;FMTTYPE=image/jpeg:https://www.gphq.com.au/wp-content/uploads/2020/10/ASSCR_UWA-meeting_final-invitation-1-scaled.jpg
ORGANIZER;CN="The University of Westerna Australia":MAILTO:leanne.hall@uwa.edu.au
END:VEVENT
BEGIN:VEVENT
DTSTART;TZID=Australia/Perth:20161118T131500
DTEND;TZID=Australia/Perth:20161120T125000
DTSTAMP:20260419T200553
CREATED:20160919T234152Z
LAST-MODIFIED:20201028T015231Z
UID:17152-1479474900-1479646200@www.gphq.com.au
SUMMARY:20th Annual Australasian Menopause Society Congress
DESCRIPTION:Pick up the latest on bones – how to assess fracture risk\, what to use\, what to avoid\, when to start\, when to stop\, skin conditions of ageing\, plastic surgery\, useful tools for your practice. Discuss difficult cases\, and learn all the latest from the literature and clinical trials. Meet with friends and colleagues and exchange ideas.  Key note speakers include Dr Mike McClung\, Founding Director\, Oregon Osteoporosis Centre and Prof Peter Ebeling AO\, Medical Director\, Osteoporosis Australia.
URL:https://www.gphq.com.au/event/20th-annual-australasian-menopause-society-congress/
LOCATION:The Esplanade\, 46-54 Marine Terrace\, Fremantle\, Victoria\, 6160\, Australia
CATEGORIES:Conference
ATTACH;FMTTYPE=image/jpeg:https://www.gphq.com.au/wp-content/uploads/2020/10/perth-edit1-1.jpg
ORGANIZER;CN="Australasian Menopause Society":MAILTO:ams@menopause.org.au
END:VEVENT
BEGIN:VEVENT
DTSTART;TZID=Australia/Perth:20161116T063000
DTEND;TZID=Australia/Perth:20161119T060000
DTSTAMP:20260419T200553
CREATED:20161109T163013Z
LAST-MODIFIED:20201028T015246Z
UID:18073-1479277800-1479535200@www.gphq.com.au
SUMMARY:AWESoME Conference: Wilderness Medicine
DESCRIPTION:Medical practitioners – including general practitioners working in hospitals\, rural clinics and Aboriginal Medical Services\, nurse practitioners\, emergency department and critical care nurses and paramedics are welcome to attend this conference held in the surrounds of the Margaret River region. \nThe outdoor adventure component consists of hiking\, abseiling\, kayaking and caving. During the activities\, simulated emergency scenarios will occur\, with each small group managing the logistical and clinical aspects of the scenario. With a strong focus on practical implementation and participation\, many of the skills and knowledge learned will be applicable to dealing with particular emergencies that occur in a rural setting.  \nThe conference will also provide participants with the opportunity to attend an advanced Life Support 1 course (ALS 1). \nNumbers are limited to 36 delegates.
URL:https://www.gphq.com.au/event/awesome-conference-wilderness-medicine/
LOCATION:Margaret River Region\, Margaret River\, WA\, 6285\, Australia
CATEGORIES:Conference,CPR Training,Multi Day Course
ATTACH;FMTTYPE=image/jpeg:https://www.gphq.com.au/wp-content/uploads/2020/10/2016-LPFL-AWESoME-icon-1.jpg
ORGANIZER;CN="Rural Health West":MAILTO:choosecountry@ruralhealthwest.com.au
END:VEVENT
BEGIN:VEVENT
DTSTART;VALUE=DATE:20160929
DTEND;VALUE=DATE:20161002
DTSTAMP:20260419T200553
CREATED:20160427T053452Z
LAST-MODIFIED:20201028T015220Z
UID:15616-1475107200-1475366399@www.gphq.com.au
SUMMARY:GP16- RACGP
DESCRIPTION:https://gp16.com.au/
URL:https://www.gphq.com.au/event/gp16-racgp/
LOCATION:Perth Convention and Exhibition Centre\, 21 Mounts Bay Rd\, WA\, 6000\, Australia
CATEGORIES:Conference
ORGANIZER;CN="RACGP":MAILTO:events@racgp.org.au
END:VEVENT
BEGIN:VEVENT
DTSTART;VALUE=DATE:20160831
DTEND;VALUE=DATE:20160916
DTSTAMP:20260419T200553
CREATED:20160831T031057Z
LAST-MODIFIED:20201028T015229Z
UID:16903-1472601600-1473983999@www.gphq.com.au
SUMMARY:GPHQ Launch
DESCRIPTION:We are live! Thank you for joining GPHQ!
URL:https://www.gphq.com.au/event/gphq-launch-3/
LOCATION:WA
CATEGORIES:Conference,Evening Educational Session,Multi Day Course,One day course,Webinar
ATTACH;FMTTYPE=image/jpeg:https://www.gphq.com.au/wp-content/uploads/2020/10/hoverboard-1.jpg
ORGANIZER;CN="Colm & G":MAILTO:gphqpty@gmail.com
END:VEVENT
BEGIN:VEVENT
DTSTART;VALUE=DATE:20160211
DTEND;VALUE=DATE:20160212
DTSTAMP:20260419T200553
CREATED:20151015T175111Z
LAST-MODIFIED:20201028T015214Z
UID:15087-1455148800-1455235199@www.gphq.com.au
SUMMARY:Feb Event
DESCRIPTION:
URL:https://www.gphq.com.au/event/feb-event/
LOCATION:WA
CATEGORIES:Conference
ORGANIZER;CN="Unnamed Organizer":MAILTO:rsvp@educationondemand.com
END:VEVENT
BEGIN:VEVENT
DTSTART;VALUE=DATE:19330212
DTEND;VALUE=DATE:20240307
DTSTAMP:20260419T200553
CREATED:20250419T003715Z
LAST-MODIFIED:20250419T003715Z
UID:32710--1163980800-1709769599@www.gphq.com.au
SUMMARY:is augmentin the same as cefdinir
DESCRIPTION:
URL:https://www.gphq.com.au/event/is-augmentin-the-same-as-cefdinir/
LOCATION:WA
CATEGORIES:Charity Event,Conference,CPD points,CPR Training,DInner,Evening Educational Session,Morning Education Session,Multi Day Course,One day course,Study Day,Webinar
END:VEVENT
END:VCALENDAR